BEGIN:VCALENDAR
VERSION:2.0
PRODID:-//Stichting Vanguard - ECPv6.4.0//NONSGML v1.0//EN
CALSCALE:GREGORIAN
METHOD:PUBLISH
X-WR-CALNAME:Stichting Vanguard
X-ORIGINAL-URL:https://vanguard.sr
X-WR-CALDESC:Evenementen voor Stichting Vanguard
REFRESH-INTERVAL;VALUE=DURATION:PT1H
X-Robots-Tag:noindex
X-PUBLISHED-TTL:PT1H
BEGIN:VTIMEZONE
TZID:America/Sao_Paulo
BEGIN:STANDARD
TZOFFSETFROM:-0300
TZOFFSETTO:-0300
TZNAME:-03
DTSTART:20240101T000000
END:STANDARD
END:VTIMEZONE
BEGIN:VEVENT
DTSTART;TZID=America/Sao_Paulo:20240320T080000
DTEND;TZID=America/Sao_Paulo:20240320T170000
DTSTAMP:20260421T052114
CREATED:20240320T133840Z
LAST-MODIFIED:20240320T144011Z
UID:4579-1710921600-1710954000@vanguard.sr
SUMMARY:Test Soft Launch Brokopondo
DESCRIPTION:Test Soft Brok
URL:https://vanguard.sr/event/test-soft-launch-brokopondo/
CATEGORIES:Brokopondo
END:VEVENT
END:VCALENDAR